BEGIN:VCALENDAR
VERSION:2.0
PRODID:-//MBSSE - ECPv5.8.2//NONSGML v1.0//EN
CALSCALE:GREGORIAN
METHOD:PUBLISH
X-WR-CALNAME:MBSSE
X-ORIGINAL-URL:https://mbsse.gov.sl
X-WR-CALDESC:Events for MBSSE
BEGIN:VTIMEZONE
TZID:UTC
BEGIN:STANDARD
TZOFFSETFROM:+0000
TZOFFSETTO:+0000
TZNAME:UTC
DTSTART:20200101T000000
END:STANDARD
END:VTIMEZONE
BEGIN:VEVENT
DTSTART;TZID=UTC:20200218T080000
DTEND;TZID=UTC:20200218T170000
DTSTAMP:20210830T014421
CREATED:20200216T190321Z
LAST-MODIFIED:20200216T190321Z
UID:5819-1582012800-1582045200@mbsse.gov.sl
SUMMARY:Social & Behavioral Change Communication (SBCC)
DESCRIPTION:MBSSE Comms. Unit partners with Leh Wi Lan @ Mott McDonald on an SBCC Consultation Workshop on Early Marriage\, FGM\, Normalization of sex for gifts\, Misconception about Disability.
URL:https://mbsse.gov.sl/event/social-behavioral-change-communication-sbcc/
LOCATION:Bo\,\, Sierra Leone
END:VEVENT
END:VCALENDAR